BEGIN:VCALENDAR
VERSION:2.0
PRODID:-//Best Business Results - ECPv6.15.18//NONSGML v1.0//EN
CALSCALE:GREGORIAN
METHOD:PUBLISH
X-ORIGINAL-URL:https://bestbusinessresults.com.au
X-WR-CALDESC:Events for Best Business Results
REFRESH-INTERVAL;VALUE=DURATION:PT1H
X-Robots-Tag:noindex
X-PUBLISHED-TTL:PT1H
BEGIN:VTIMEZONE
TZID:Australia/Adelaide
BEGIN:STANDARD
TZOFFSETFROM:+1030
TZOFFSETTO:+0930
TZNAME:ACST
DTSTART:20230401T163000
END:STANDARD
BEGIN:DAYLIGHT
TZOFFSETFROM:+0930
TZOFFSETTO:+1030
TZNAME:ACDT
DTSTART:20230930T163000
END:DAYLIGHT
BEGIN:STANDARD
TZOFFSETFROM:+1030
TZOFFSETTO:+0930
TZNAME:ACST
DTSTART:20240406T163000
END:STANDARD
BEGIN:DAYLIGHT
TZOFFSETFROM:+0930
TZOFFSETTO:+1030
TZNAME:ACDT
DTSTART:20241005T163000
END:DAYLIGHT
BEGIN:STANDARD
TZOFFSETFROM:+1030
TZOFFSETTO:+0930
TZNAME:ACST
DTSTART:20250405T163000
END:STANDARD
BEGIN:DAYLIGHT
TZOFFSETFROM:+0930
TZOFFSETTO:+1030
TZNAME:ACDT
DTSTART:20251004T163000
END:DAYLIGHT
BEGIN:STANDARD
TZOFFSETFROM:+1030
TZOFFSETTO:+0930
TZNAME:ACST
DTSTART:20260404T163000
END:STANDARD
BEGIN:DAYLIGHT
TZOFFSETFROM:+0930
TZOFFSETTO:+1030
TZNAME:ACDT
DTSTART:20261003T163000
END:DAYLIGHT
BEGIN:STANDARD
TZOFFSETFROM:+1030
TZOFFSETTO:+0930
TZNAME:ACST
DTSTART:20270403T163000
END:STANDARD
BEGIN:DAYLIGHT
TZOFFSETFROM:+0930
TZOFFSETTO:+1030
TZNAME:ACDT
DTSTART:20271002T163000
END:DAYLIGHT
END:VTIMEZONE
BEGIN:VEVENT
DTSTART;TZID=Australia/Adelaide:20240821T093000
DTEND;TZID=Australia/Adelaide:20240821T133000
DTSTAMP:20260425T201523
CREATED:20240820T040633Z
LAST-MODIFIED:20240820T041212Z
UID:10000013-1724232600-1724247000@bestbusinessresults.com.au
SUMMARY:Best Business Leaders' Programme - Working Smarter
DESCRIPTION:  \n  \n  \n  \nSession 3 – Working Smarter: How to succeed in an ever-changing landscape beyond 2024\nElevate your leadership game by joining our next workshop where we’ll dive into an agility focused agenda to explore what’s propelling leaders forward and what’s holding them back. \nLearn practical ways to boost your agility\, efficiency and impact by tapping into the power of your ‘second brain’. Assess your readiness for personal change success and find solutions to overcome agility barriers for both yourself and with your team. Attendees will be brought up to speed with the latest insights on attracting and keeping top talent while adapting to shifts in workforce dynamics. \nRoll up your sleeves and tackle your day-to-day agility challenges head-on in our problem-solving roundtables\, where you’ll collaborate with fellow leaders. \nDon’t miss this opportunity to connect with experienced peers and stay at the forefront of agile leadership evolution in 2024 and beyond. Register now to secure your spot. \nAbout the Best Business Leader Programme \nThis is a place for leaders of organisations to meet like-minded businesspeople\, learn\, be challenged and supported by their peers and fully accredited advisors. \nHear what attendees have to say about the programme: https://vimeo.com/339320510 \nCome to the thrid session of 2024 to experience it first hand\, at a discounted price.See Eventbrite Link below. \nIf you’ve got any questions\, please call Angela Grogan on 0409 692 163 or email angela@bestbusinessresults.com.au
URL:https://bestbusinessresults.com.au/event/best-business-leaders-programme-coaching-your-team-like-a-pro-copy/
LOCATION:Intersect\, 167 Flinders Street\, Adelaide\, SA\, 5000\, Australia
END:VEVENT
BEGIN:VEVENT
DTSTART;TZID=Australia/Adelaide:20241127T093000
DTEND;TZID=Australia/Adelaide:20241127T133000
DTSTAMP:20260425T201523
CREATED:20241105T032642Z
LAST-MODIFIED:20241105T032921Z
UID:10000014-1732699800-1732714200@bestbusinessresults.com.au
SUMMARY:Best Business Leaders' Programme: Session 4\, 2024
DESCRIPTION:Best Business Leaders Programme: Session 4\, 27 November 2024 \nJoin us at Intersect for a day filled with insightful discussions\, networking opportunities\, and practical tips from top industry experts. This event is your chance to learn from the best and take your leadership skills to the next level. \nMorning tea and lunch is provided (please advise dietaries). \nStrategic moves 2025: Unleash growth\, navigate challenges\, and maximise team potential \nGet ready for a high-impact workshop designed for leaders who are ready to drive growth and outpace the competition in 2025’s challenging market. Learn how to make tough strategic decisions\, harness emerging marketing trends\, and manage difficult team dynamics for optimal performance. \nArmed with practical strategies\, fresh insights\, and dynamic peer-led discussions\, you’ll walk away with a powerful 90-day action plan to ignite your success and drive results in the year ahead. \nThe session will cover: \n\n2024 in review: Business wins\, misses & lessons learnt\nTough calls : Strategic decisions to rightsize in a shifting market\n2025 Marketing Trends: Focus on what drives growth\nManaging Stagnation: Insights to reignite plateaued team members\nYour big 2025 opportunity: Ideas to maximise success\nStrategy to Action: Craft your 90-day plan & key takeawayus\n\nDon’t miss out on this exclusive opportunity to grow and connect with like-minded professionals. See you there!
URL:https://bestbusinessresults.com.au/event/best-business-leaders-programme-session-4-2024/
LOCATION:Intersect\, 167 Flinders Street\, Adelaide\, SA\, 5000\, Australia
END:VEVENT
BEGIN:VEVENT
DTSTART;TZID=Australia/Adelaide:20250318T093000
DTEND;TZID=Australia/Adelaide:20250318T133000
DTSTAMP:20260425T201523
CREATED:20250304T020544Z
LAST-MODIFIED:20250304T020544Z
UID:10000019-1742290200-1742304600@bestbusinessresults.com.au
SUMMARY:The Reset: Elite Performance for Business Leaders
DESCRIPTION:It’s Time to Reset\, Refuel & Reignite Your Performance \nIn today’s demanding business landscape\, leaders are expected to perform at their peak—but how often do you pause to ensure you’re truly healthy\, focussed\, and resilient enough to sustain success? \nThe Reset is an interactive\, high-impact workshop designed to help business leaders like you reclaim energy\, sharpen mental resilience\, and optimise performance to thrive under pressure and drive powerful results. \n  \nWhat You’ll Gain from The Reset \nChloe McLeod from Verde Nutrition Co and Angela Grogan from Best Business Results will help you: \n✅ Optimise Energy & Physical Fitness – Discover how to sustain high energy levels for peak daily performance.\n✅ Build Unbreakable Mental Resilience – Strengthen your ability to handle pressure\, stress\, and uncertainty with confidence.\n✅ Identify & Eliminate Self-Sabotaging Behaviours – Uncover hidden roadblocks that are limiting your success.\n✅ Enhance Emotional Intelligence & Mental Fitness – Improve self-awareness\, leadership presence\, and decision-making.\n✅ Boost Productivity & Problem-Solving Skills – Learn strategies to increase efficiency\, adaptability\, and execution. \n🔹 This isn’t just another leadership seminar—it’s a full system RESET and you’ll enjoy morning tea\, lunch and refreshments which are included in your ticket price. \nThis immersive workshop will equip you with real-world tools\, hands-on exercises\, and transformative strategies to elevate your health\, mindset\, and leadership impact. \nAre You Ready to Reset and Lead at Your Full Potential?
URL:https://bestbusinessresults.com.au/event/the-reset-elite-performance-for-business-leaders/
LOCATION:The Terrace\, 208 South Terrace\, Adelaide\, South Australia\, 5045\, Australia
END:VEVENT
BEGIN:VEVENT
DTSTART;TZID=Australia/Adelaide:20250627T093000
DTEND;TZID=Australia/Adelaide:20250627T123000
DTSTAMP:20260425T201523
CREATED:20250606T072214Z
LAST-MODIFIED:20250606T072955Z
UID:10000020-1751016600-1751027400@bestbusinessresults.com.au
SUMMARY:Time & Priority Mastery Masterclass
DESCRIPTION:Master Your Time & Priorities for Greater Success\n \nTime and priority management isn’t just a skill—it’s a game-changer for personal and professional success. With only  168 hours in a week\, the difference between feeling overwhelmed and staying in control lies in what you choose to focus on. \nAre you working on the 20% of tasks that generate 80% of your results? Or are distractions and low-value tasks eating away at your time? \nWhy This Workshop Matters\nThe sheer number of books\, podcasts\, and courses on productivity highlights how crucial this topic is—but most people still struggle to implement what they learn. This workshop bridges the gap between knowing what to do and actually doing it. You’ll walk away with tools\, strategies\, and a renewed focus on what really matters. \nWhat You’ll Gain\nThis is a hands-on\, practical session designed to help you: \n\nIdentify your biggest time-wasters and priority blockers\nClarify your goals and define what success looks like for you\nApply powerful\, easy-to-use tools to manage your time and focus\nRecognise what tasks you can stop doing or delegate\nRun more effective and time-efficient meetings\nLeverage simple technologies to streamline your day\nBuild new high-performance habits that actually stick\nMake time for both progress and rest\n\nHow We Deliver Results\nLed by experienced business advisor Angela Grogan\, this interactive workshop combines proven methodologies with real-world insights. You’ll be guided through a structured process that helps you cut through complexity\, take control of your time\, and focus on the strategies that drive real results. \nDetails\n✅ Action-focused\, interactive learning \n✅ Real-world tools and templates you can use immediately \n✅ Small-group format for personalised feedback \n✅ Morning tea and refreshments included \nThis isn’t just another time management session—it’s a practical reset for how you work\, lead\, and live. \nJoin us at Intersect to learn practical strategies to regain control and achieve more with less stress. \nGrab your tickets here: https://tinyurl.com/BBRTimeMSTR \n \n  \nLooking forward to seeing you there! \n 
URL:https://bestbusinessresults.com.au/event/best-business-leaders-programme-4-copy/
LOCATION:Intersect\, 167 Flinders Street\, Adelaide\, SA\, 5000\, Australia
END:VEVENT
BEGIN:VEVENT
DTSTART;TZID=Australia/Adelaide:20260225T093000
DTEND;TZID=Australia/Adelaide:20260225T133000
DTSTAMP:20260425T201523
CREATED:20241128T041041Z
LAST-MODIFIED:20251201T055631Z
UID:10000015-1772011800-1772026200@bestbusinessresults.com.au
SUMMARY:Best Business Leaders' Programme #1 2026
DESCRIPTION:Session 1\, 25 February 2026 – Lead Beyond the Algorithm: The AI-Augmented Leader of 2026\n\nYour 2026 learning journey to becoming an AI-powered leader: a year of continuous improvement\, networking\, sharing\, capability building\, contrarian insights\, and success stories — all designed to accelerate the performance of you as a leader and your business.\n\nJoin us for the first Best Business Leaders’ Programme session of 2026 where we’ll deep dive into how AI is shaping the role of leaders. \n\n\nLaunch your year with a deep dive into how AI is reshaping the role and approach of high performing leaders \nWe’ll cover: \n\n2026 Mindshop Annual Leader report insights\nWhat is the ‘AI-Augmented’ Leader in 2026? Understanding the AI + Human Leadership Balance. AI ethics & governance\nBuilding your 2026 leadership brand & influence at scale\nDecision-Making Under AI Data Overload. Tips & Techniques\nCutting through the clutter in 2026\nResetting your 2026 plan\nCase studies of success\nPeer collaboration & coaching\n\nMorning tea\, lunch and refreshments are provided in your ticket price (please advise dietaries when booking). \nDon’t miss out on this exclusive opportunity to grow and connect with like-minded professionals. Grab your tickets here: https://tinyurl.com/BBR25Feb26 \n\n\n \n  \n  \n  \nBest Business Leaders Programme \nWelcome to the Best Business Leaders Programme! Join us at Intersect for a session filled with insightful discussions\, networking opportunities\, and practical tips from top industry experts. This event is your chance to learn from the best and take your leadership skills to the next level. \n \n\nLook out for more Best Business Leader Programme workshops on 20 May\, 26 August and 18 November 2026.
URL:https://bestbusinessresults.com.au/event/best-business-leaders-programme/
LOCATION:Intersect\, 167 Flinders Street\, Adelaide\, SA\, 5000\, Australia
END:VEVENT
BEGIN:VEVENT
DTSTART;TZID=Australia/Adelaide:20260520T093000
DTEND;TZID=Australia/Adelaide:20260520T133000
DTSTAMP:20260425T201523
CREATED:20241128T041636Z
LAST-MODIFIED:20260328T113545Z
UID:10000016-1779269400-1779283800@bestbusinessresults.com.au
SUMMARY:Best Business Leaders' Programme #2 2026
DESCRIPTION:Session 2\, 20 May 2026 – Leading with Clarity: Modern Strategy & Coaching for High-Performing Teams\nYour 2026 learning journey to becoming an AI-powered leader: a year of continuous improvement\, networking\, sharing\, capability building\, contrarian insights\, and success stories — all designed to accelerate the performance of you as a leader and your business. \nJoin us for the 2nd Best Business Leaders’ Programme session of 2026 to elevate your strategy\, coaching and implementation capabilities. \n\n\nElevate your strategy\, coaching and implementation capabilities with hands on insights into best practice. \nWe’ll cover: \n\nInnovations and new approaches using AI in strategy\, coaching & implementation as a leader\nCoaching your team through change and transformation\nMindshop tool capability building and best practice\nAgile alignment of strategies\nDealing with challenging customer and internal scenarios during implementation\nCase studies of success\nPeer collaboration & coaching\n\n \n\n\nMorning tea\, lunch and refreshments are provided in your ticket price (please advise dietaries when booking). \nDon’t miss out on this exclusive opportunity to grow and connect with like-minded professionals. Grab your tickets here: https://tinyurl.com/BBR20May26 \n \n  \n  \n  \n  \nBest Business Leaders Programme \nWelcome to the Best Business Leaders Programme! Join us at Intersect for a session filled with insightful discussions\, networking opportunities\, and practical tips from top industry experts. This event is your chance to learn from the best and take your leadership skills to the next level. \nLook out for more Best Business Leader Programme workshops on 26 August and 18 November 2026.
URL:https://bestbusinessresults.com.au/event/best-business-leaders-programme-2/
LOCATION:Intersect\, 167 Flinders Street\, Adelaide\, SA\, 5000\, Australia
END:VEVENT
BEGIN:VEVENT
DTSTART;TZID=Australia/Adelaide:20260826T093000
DTEND;TZID=Australia/Adelaide:20260826T133000
DTSTAMP:20260425T201523
CREATED:20241128T042040Z
LAST-MODIFIED:20251201T055233Z
UID:10000017-1787736600-1787751000@bestbusinessresults.com.au
SUMMARY:Best Business Leaders' Programme #3 2026
DESCRIPTION:Session 3\, 26 August 2026 – High Performance & Healthy People: Culture Leadership for 2026\n\nYour 2026 learning journey to becoming an AI-powered leader: a year of continuous improvement\, networking\, sharing\, capability building\, contrarian insights\, and success stories — all designed to accelerate the performance of you as a leader and your business.\n\n\n\nJoin us for the 3rd Best Business Leaders’ Programme session of 2026 to drive high performance in your people & a strong\, resilient culture. \n\n\nLearn how to drive higher performance in your people while maintaining a strong\, resilient and thriving culture. \nWe’ll cover: \n\nCreating cultures of resilience and high performance in an AI and Hybrid world\nLeading teams to thrive under complexity and pressure\nPreventing burnout while sustaining high performance. Self-sabotage behaviours\nHow to deal with change resistance in your team. Making the time for key priorities that drive performance\nPerformance management shifts\nCase studies of success\nPeer collaboration & coaching\n\n\nMorning tea\, lunch and refreshments are provided in your ticket price (please advise dietaries when booking). \nDon’t miss out on this exclusive opportunity to grow and connect with like-minded professionals. Grab your tickets here:https://tinyurl.com/BBR26Aug26 \n \n  \n  \n  \nBest Business Leaders Programme \nWelcome the Best Business Leaders Programme! Join us at Intersect for a day filled with insightful discussions\, networking opportunities\, and practical tips from top industry experts. This event is your chance to learn from the best and take your leadership skills to the next level. \nAnd look out for the final 2026 event in November (Topic: Performance).
URL:https://bestbusinessresults.com.au/event/best-business-leaders-programme-3/
LOCATION:Intersect\, 167 Flinders Street\, Adelaide\, SA\, 5000\, Australia
END:VEVENT
BEGIN:VEVENT
DTSTART;TZID=Australia/Adelaide:20261118T093000
DTEND;TZID=Australia/Adelaide:20261118T133000
DTSTAMP:20260425T201523
CREATED:20241128T042058Z
LAST-MODIFIED:20251201T055842Z
UID:10000018-1794994200-1795008600@bestbusinessresults.com.au
SUMMARY:Best Business Leaders' Programme #4 2026
DESCRIPTION:Session 4\, 18 November 2026 – The Growth Engine: Scaling Smarter\, Faster & With Less Stress\nYour 2026 learning journey to becoming an AI-powered leader: a year of continuous improvement\, networking\, sharing\, capability building\, contrarian insights\, and success stories — all designed to accelerate the performance of you as a leader and your business.\n\n\n\n\n\n\n \n\n\n\n\nJoin us for the final Best Business Leaders’ Programme session of 2026 to accelerate your growth and profit in 2027.Accelerate your levels of growth & profit in 2027. Discover best practice\, strategies and peer insights.We’ll cover: \n\nGrowth strategies for 2027. Where are your sales opportunities?\nScaling innovations. How to do less and achieve more\, powered by AI\nDiscovering key growth / profit areas with AI\nStopping ‘profit leaks’ in everyday operations. Hidden wastes\nSuccession planning and delegation\nLatest productivity tips for leaders\nDealing with growth stagnation\nCase studies of success\nPeer collaboration & coaching\n\n\n\n\n\n\n\n\n \nMorning tea and lunch is provided (please advise dietaries when booking your ticket). \nDon’t miss out on this exclusive opportunity to grow and connect with like-minded professionals. Grab your tickets here: https://tinyurl.com/BBR18Nov26 \n \n  \n  \n  \nAnd look for one more of these events in 2027!
URL:https://bestbusinessresults.com.au/event/best-business-leaders-programme-4/
LOCATION:Intersect\, 167 Flinders Street\, Adelaide\, SA\, 5000\, Australia
END:VEVENT
END:VCALENDAR