BEGIN:VCALENDAR
VERSION:2.0
PRODID:-//Best Business Results - ECPv6.15.18//NONSGML v1.0//EN
CALSCALE:GREGORIAN
METHOD:PUBLISH
X-ORIGINAL-URL:https://bestbusinessresults.com.au
X-WR-CALDESC:Events for Best Business Results
REFRESH-INTERVAL;VALUE=DURATION:PT1H
X-Robots-Tag:noindex
X-PUBLISHED-TTL:PT1H
BEGIN:VTIMEZONE
TZID:Australia/Adelaide
BEGIN:STANDARD
TZOFFSETFROM:+1030
TZOFFSETTO:+0930
TZNAME:ACST
DTSTART:20230401T163000
END:STANDARD
BEGIN:DAYLIGHT
TZOFFSETFROM:+0930
TZOFFSETTO:+1030
TZNAME:ACDT
DTSTART:20230930T163000
END:DAYLIGHT
BEGIN:STANDARD
TZOFFSETFROM:+1030
TZOFFSETTO:+0930
TZNAME:ACST
DTSTART:20240406T163000
END:STANDARD
BEGIN:DAYLIGHT
TZOFFSETFROM:+0930
TZOFFSETTO:+1030
TZNAME:ACDT
DTSTART:20241005T163000
END:DAYLIGHT
BEGIN:STANDARD
TZOFFSETFROM:+1030
TZOFFSETTO:+0930
TZNAME:ACST
DTSTART:20250405T163000
END:STANDARD
BEGIN:DAYLIGHT
TZOFFSETFROM:+0930
TZOFFSETTO:+1030
TZNAME:ACDT
DTSTART:20251004T163000
END:DAYLIGHT
END:VTIMEZONE
BEGIN:VEVENT
DTSTART;TZID=Australia/Adelaide:20240821T093000
DTEND;TZID=Australia/Adelaide:20240821T133000
DTSTAMP:20260425T133404
CREATED:20240820T040633Z
LAST-MODIFIED:20240820T041212Z
UID:10000013-1724232600-1724247000@bestbusinessresults.com.au
SUMMARY:Best Business Leaders' Programme - Working Smarter
DESCRIPTION:  \n  \n  \n  \nSession 3 – Working Smarter: How to succeed in an ever-changing landscape beyond 2024\nElevate your leadership game by joining our next workshop where we’ll dive into an agility focused agenda to explore what’s propelling leaders forward and what’s holding them back. \nLearn practical ways to boost your agility\, efficiency and impact by tapping into the power of your ‘second brain’. Assess your readiness for personal change success and find solutions to overcome agility barriers for both yourself and with your team. Attendees will be brought up to speed with the latest insights on attracting and keeping top talent while adapting to shifts in workforce dynamics. \nRoll up your sleeves and tackle your day-to-day agility challenges head-on in our problem-solving roundtables\, where you’ll collaborate with fellow leaders. \nDon’t miss this opportunity to connect with experienced peers and stay at the forefront of agile leadership evolution in 2024 and beyond. Register now to secure your spot. \nAbout the Best Business Leader Programme \nThis is a place for leaders of organisations to meet like-minded businesspeople\, learn\, be challenged and supported by their peers and fully accredited advisors. \nHear what attendees have to say about the programme: https://vimeo.com/339320510 \nCome to the thrid session of 2024 to experience it first hand\, at a discounted price.See Eventbrite Link below. \nIf you’ve got any questions\, please call Angela Grogan on 0409 692 163 or email angela@bestbusinessresults.com.au
URL:https://bestbusinessresults.com.au/event/best-business-leaders-programme-coaching-your-team-like-a-pro-copy/
LOCATION:Intersect\, 167 Flinders Street\, Adelaide\, SA\, 5000\, Australia
END:VEVENT
END:VCALENDAR