BEGIN:VCALENDAR
VERSION:2.0
PRODID:-//Best Business Results - ECPv6.15.18//NONSGML v1.0//EN
CALSCALE:GREGORIAN
METHOD:PUBLISH
X-ORIGINAL-URL:https://bestbusinessresults.com.au
X-WR-CALDESC:Events for Best Business Results
REFRESH-INTERVAL;VALUE=DURATION:PT1H
X-Robots-Tag:noindex
X-PUBLISHED-TTL:PT1H
BEGIN:VTIMEZONE
TZID:Australia/Adelaide
BEGIN:STANDARD
TZOFFSETFROM:+1030
TZOFFSETTO:+0930
TZNAME:ACST
DTSTART:20190406T163000
END:STANDARD
BEGIN:DAYLIGHT
TZOFFSETFROM:+0930
TZOFFSETTO:+1030
TZNAME:ACDT
DTSTART:20191005T163000
END:DAYLIGHT
BEGIN:STANDARD
TZOFFSETFROM:+1030
TZOFFSETTO:+0930
TZNAME:ACST
DTSTART:20200404T163000
END:STANDARD
BEGIN:DAYLIGHT
TZOFFSETFROM:+0930
TZOFFSETTO:+1030
TZNAME:ACDT
DTSTART:20201003T163000
END:DAYLIGHT
BEGIN:STANDARD
TZOFFSETFROM:+1030
TZOFFSETTO:+0930
TZNAME:ACST
DTSTART:20210403T163000
END:STANDARD
BEGIN:DAYLIGHT
TZOFFSETFROM:+0930
TZOFFSETTO:+1030
TZNAME:ACDT
DTSTART:20211002T163000
END:DAYLIGHT
END:VTIMEZONE
BEGIN:VEVENT
DTSTART;TZID=Australia/Adelaide:20200212T093000
DTEND;TZID=Australia/Adelaide:20200212T133000
DTSTAMP:20260422T011008
CREATED:20200206T033749Z
LAST-MODIFIED:20200206T033924Z
UID:10000009-1581499800-1581514200@bestbusinessresults.com.au
SUMMARY:Best Business Leaders' Programme: Fast tracking implementation as a leader in 2020
DESCRIPTION:Session 1 – Fast tracking implementation as a leader in 2020\nSuccessfully implementing strategies is a core skill required for high performing leaders and owners. Yet year after year\, they seem to have less time\, more spinning plates and struggle more than ever before to ‘get things done’. Use this first session for 2020 as a unique opportunity to: \n– Learn new insights for higher performance as a leader or business owner in 2020; \n– Build or refine new skills & tools to address implementation challenges and stop the ‘busy’ culture in your business; and \n– ‘Problem-solve’ your biggest implementation challenge for the next 90-days with experienced peers \nAny opportunity or challenge can be raised and addressed with the help of Angela and your peers on the day \nAbout the Best Business Leaders’ Programme\nThis is a place for leaders of organisations to meet like-minded business people\, learn\, be challenged and supported by their peers and fully accredited advisors. \nCome to the first session for 2020 to experience it first hand\, at a discounted price. See Eventbrite link below. \nIf you’ve got any questions\, please call Angela Grogan on 0409 692 163 or email angela@bestbusinessresults.com.au.
URL:https://bestbusinessresults.com.au/event/best-business-leaders-programme-fast-tracking-implementation-as-a-leader-in-2020/
LOCATION:Adelaide\, SA\, Australia
END:VEVENT
END:VCALENDAR