BEGIN:VCALENDAR
VERSION:2.0
PRODID:-//Best Business Results - ECPv6.15.18//NONSGML v1.0//EN
CALSCALE:GREGORIAN
METHOD:PUBLISH
X-ORIGINAL-URL:https://bestbusinessresults.com.au
X-WR-CALDESC:Events for Best Business Results
REFRESH-INTERVAL;VALUE=DURATION:PT1H
X-Robots-Tag:noindex
X-PUBLISHED-TTL:PT1H
BEGIN:VTIMEZONE
TZID:Australia/Adelaide
BEGIN:STANDARD
TZOFFSETFROM:+1030
TZOFFSETTO:+0930
TZNAME:ACST
DTSTART:20240406T163000
END:STANDARD
BEGIN:DAYLIGHT
TZOFFSETFROM:+0930
TZOFFSETTO:+1030
TZNAME:ACDT
DTSTART:20241005T163000
END:DAYLIGHT
BEGIN:STANDARD
TZOFFSETFROM:+1030
TZOFFSETTO:+0930
TZNAME:ACST
DTSTART:20250405T163000
END:STANDARD
BEGIN:DAYLIGHT
TZOFFSETFROM:+0930
TZOFFSETTO:+1030
TZNAME:ACDT
DTSTART:20251004T163000
END:DAYLIGHT
BEGIN:STANDARD
TZOFFSETFROM:+1030
TZOFFSETTO:+0930
TZNAME:ACST
DTSTART:20260404T163000
END:STANDARD
BEGIN:DAYLIGHT
TZOFFSETFROM:+0930
TZOFFSETTO:+1030
TZNAME:ACDT
DTSTART:20261003T163000
END:DAYLIGHT
END:VTIMEZONE
BEGIN:VEVENT
DTSTART;TZID=Australia/Adelaide:20250318T093000
DTEND;TZID=Australia/Adelaide:20250318T133000
DTSTAMP:20260421T193449
CREATED:20250304T020544Z
LAST-MODIFIED:20250304T020544Z
UID:10000019-1742290200-1742304600@bestbusinessresults.com.au
SUMMARY:The Reset: Elite Performance for Business Leaders
DESCRIPTION:It’s Time to Reset\, Refuel & Reignite Your Performance \nIn today’s demanding business landscape\, leaders are expected to perform at their peak—but how often do you pause to ensure you’re truly healthy\, focussed\, and resilient enough to sustain success? \nThe Reset is an interactive\, high-impact workshop designed to help business leaders like you reclaim energy\, sharpen mental resilience\, and optimise performance to thrive under pressure and drive powerful results. \n  \nWhat You’ll Gain from The Reset \nChloe McLeod from Verde Nutrition Co and Angela Grogan from Best Business Results will help you: \n✅ Optimise Energy & Physical Fitness – Discover how to sustain high energy levels for peak daily performance.\n✅ Build Unbreakable Mental Resilience – Strengthen your ability to handle pressure\, stress\, and uncertainty with confidence.\n✅ Identify & Eliminate Self-Sabotaging Behaviours – Uncover hidden roadblocks that are limiting your success.\n✅ Enhance Emotional Intelligence & Mental Fitness – Improve self-awareness\, leadership presence\, and decision-making.\n✅ Boost Productivity & Problem-Solving Skills – Learn strategies to increase efficiency\, adaptability\, and execution. \n🔹 This isn’t just another leadership seminar—it’s a full system RESET and you’ll enjoy morning tea\, lunch and refreshments which are included in your ticket price. \nThis immersive workshop will equip you with real-world tools\, hands-on exercises\, and transformative strategies to elevate your health\, mindset\, and leadership impact. \nAre You Ready to Reset and Lead at Your Full Potential?
URL:https://bestbusinessresults.com.au/event/the-reset-elite-performance-for-business-leaders/
LOCATION:The Terrace\, 208 South Terrace\, Adelaide\, South Australia\, 5045\, Australia
END:VEVENT
END:VCALENDAR